Workbook

Sheet Kvalifikace
A1: CZPRA kvalifikace na Mistrovství světa 2026–2027
A2: Divize Open · pouze čeští závodníci · 5 nejlepších výsledků (min. 3 závody CZPRA · chybějící CZPRA slot = 0 % · max. 2 ostatní)
A4: Závodníků | B4: 38 | D4: Závodů | E4: 15 | G4: Míst Open | H4: 6 | J4: Konec kvalifikace | K4: 31. 1. 2027
A6: # | B6: Závodník | C6: Lady | D6: Kval. průměr | E6: CZPRA | F6: Chybí CZPRA | G6: SlaveTown 22.02.2026 | H6: Owl Valley Puchacz 08.03.2026 | I6: SGW Leobersdorf 14.03.2026 | J6: MRTM Winter 22.03.2026 | K6: MČR 26.04.2026 | L6: NH jaro 03.05.2026 | M6: MRTM Spring 14.06.2026 | N6: NH léto 14.06.2026 | O6: Ludvíkovice PR22 #1 28.06.2026 | P6: NRL22 Slovakia Sielnica 11.07.2026 | Q6: Austrian Rimfire Summer 18.07.2026 | R6: Ludvíkovice PR22 #2 25.07.2026 | S6: Lithuanian Rimfire Ch. 29.08.2026 | T6: MRTM Summer 06.09.2026 | U6: Ludvíkovice PR22 #3 04.10.2026
A7: 1 | B7: =Data!A5 | C7: =Data!B5 | D7: =(IFERROR(LARGE(Data!C5:Data!Q5,1),0)+IFERROR(LARGE(Data!C5:Data!Q5,2),0)+IFERROR(LARGE(Data!C5:Data!Q5,3),0)+IFERROR(LARGE(Data!D5:Data!P5,1),0)+IFERROR(LARGE(Data!D5:Data!P5,2),0))/5 | E7: =COUNTIF(Data!C5:Data!Q5,">"&0)&"/5" | F7: =IF(MAX(0,3-COUNTIF(Data!C5:Data!Q5,">"&0))=0,"✓","-"&MAX(0,3-COUNTIF(Data!C5:Data!Q5,">"&0))&"× CZPRA") | G7: — | H7: =Data!D5 | I7: — | J7: =Data!F5 | K7: =Data!G5 | L7: =Data!H5 | M7: — | N7: =Data!J5 | O7: — | P7: — | Q7: — | R7: =Data!N5 | S7: — | T7: — | U7: =Data!Q5
A8: 2 | B8: =Data!A4 | C8: =Data!B4 | D8: =(IFERROR(LARGE(Data!C4:Data!Q4,1),0)+IFERROR(LARGE(Data!C4:Data!Q4,2),0)+IFERROR(LARGE(Data!C4:Data!Q4,3),0)+IFERROR(LARGE(Data!D4:Data!P4,1),0)+IFERROR(LARGE(Data!D4:Data!P4,2),0))/5 | E8: =COUNTIF(Data!C4:Data!Q4,">"&0)&"/5" | F8: =IF(MAX(0,3-COUNTIF(Data!C4:Data!Q4,">"&0))=0,"✓","-"&MAX(0,3-COUNTIF(Data!C4:Data!Q4,">"&0))&"× CZPRA") | G8: =Data!C4 | H8: — | I8: =Data!E4 | J8: =Data!F4 | K8: =Data!G4 | L8: =Data!H4 | M8: — | N8: =Data!J4 | O8: =Data!K4 | P8: — | Q8: =Data!M4 | R8: =Data!N4 | S8: =Data!O4 | T8: =Data!P4 | U8: =Data!Q4
A9: 3 | B9: =Data!A3 | C9: =Data!B3 | D9: =(IFERROR(LARGE(Data!C3:Data!Q3,1),0)+IFERROR(LARGE(Data!C3:Data!Q3,2),0)+IFERROR(LARGE(Data!C3:Data!Q3,3),0)+IFERROR(LARGE(Data!D3:Data!P3,1),0)+IFERROR(LARGE(Data!D3:Data!P3,2),0))/5 | E9: =COUNTIF(Data!C3:Data!Q3,">"&0)&"/5" | F9: =IF(MAX(0,3-COUNTIF(Data!C3:Data!Q3,">"&0))=0,"✓","-"&MAX(0,3-COUNTIF(Data!C3:Data!Q3,">"&0))&"× CZPRA") | G9: =Data!C3 | H9: — | I9: =Data!E3 | J9: — | K9: =Data!G3 | L9: =Data!H3 | M9: — | N9: — | O9: =Data!K3 | P9: — | Q9: =Data!M3 | R9: =Data!N3 | S9: =Data!O3 | T9: =Data!P3 | U9: =Data!Q3
A10: 4 | B10: =Data!A8 | C10: =Data!B8 | D10: =(IFERROR(LARGE(Data!C8:Data!Q8,1),0)+IFERROR(LARGE(Data!C8:Data!Q8,2),0)+IFERROR(LARGE(Data!C8:Data!Q8,3),0)+IFERROR(LARGE(Data!D8:Data!P8,1),0)+IFERROR(LARGE(Data!D8:Data!P8,2),0))/5 | E10: =COUNTIF(Data!C8:Data!Q8,">"&0)&"/5" | F10: =IF(MAX(0,3-COUNTIF(Data!C8:Data!Q8,">"&0))=0,"✓","-"&MAX(0,3-COUNTIF(Data!C8:Data!Q8,">"&0))&"× CZPRA") | G10: =Data!C8 | H10: — | I10: — | J10: — | K10: =Data!G8 | L10: — | M10: — | N10: — | O10: =Data!K8 | P10: — | Q10: — | R10: =Data!N8 | S10: — | T10: — | U10: =Data!Q8
A11: 5 | B11: =Data!A12 | C11: =Data!B12 | D11: =(IFERROR(LARGE(Data!C12:Data!Q12,1),0)+IFERROR(LARGE(Data!C12:Data!Q12,2),0)+IFERROR(LARGE(Data!C12:Data!Q12,3),0)+IFERROR(LARGE(Data!D12:Data!P12,1),0)+IFERROR(LARGE(Data!D12:Data!P12,2),0))/5 | E11: =COUNTIF(Data!C12:Data!Q12,">"&0)&"/5" | F11: =IF(MAX(0,3-COUNTIF(Data!C12:Data!Q12,">"&0))=0,"✓","-"&MAX(0,3-COUNTIF(Data!C12:Data!Q12,">"&0))&"× CZPRA") | G11: =Data!C12 | H11: — | I11: — | J11: — | K11: =Data!G12 | L11: =Data!H12 | M11: — | N11: =Data!J12 | O11: — | P11: =Data!L12 | Q11: — | R11: =Data!N12 | S11: — | T11: — | U11: —
A12: 6 | B12: =Data!A10 | C12: =Data!B10 | D12: =(IFERROR(LARGE(Data!C10:Data!Q10,1),0)+IFERROR(LARGE(Data!C10:Data!Q10,2),0)+IFERROR(LARGE(Data!C10:Data!Q10,3),0)+IFERROR(LARGE(Data!D10:Data!P10,1),0)+IFERROR(LARGE(Data!D10:Data!P10,2),0))/5 | E12: =COUNTIF(Data!C10:Data!Q10,">"&0)&"/5" | F12: =IF(MAX(0,3-COUNTIF(Data!C10:Data!Q10,">"&0))=0,"✓","-"&MAX(0,3-COUNTIF(Data!C10:Data!Q10,">"&0))&"× CZPRA") | G12: =Data!C10 | H12: — | I12: — | J12: — | K12: =Data!G10 | L12: =Data!H10 | M12: — | N12: =Data!J10 | O12: =Data!K10 | P12: — | Q12: — | R12: =Data!N10 | S12: — | T12: — | U12: =Data!Q10
A13: 7 | B13: =Data!A17 | C13: =Data!B17 | D13: =(IFERROR(LARGE(Data!C17:Data!Q17,1),0)+IFERROR(LARGE(Data!C17:Data!Q17,2),0)+IFERROR(LARGE(Data!C17:Data!Q17,3),0)+IFERROR(LARGE(Data!D17:Data!P17,1),0)+IFERROR(LARGE(Data!D17:Data!P17,2),0))/5 | E13: =COUNTIF(Data!C17:Data!Q17,">"&0)&"/5" | F13: =IF(MAX(0,3-COUNTIF(Data!C17:Data!Q17,">"&0))=0,"✓","-"&MAX(0,3-COUNTIF(Data!C17:Data!Q17,">"&0))&"× CZPRA") | G13: =Data!C17 | H13: — | I13: — | J13: =Data!F17 | K13: =Data!G17 | L13: — | M13: =Data!I17 | N13: — | O13: — | P13: — | Q13: — | R13: =Data!N17 | S13: — | T13: — | U13: =Data!Q17
A14: 8 | B14: =Data!A13 | C14: =Data!B13 | D14: =(IFERROR(LARGE(Data!C13:Data!Q13,1),0)+IFERROR(LARGE(Data!C13:Data!Q13,2),0)+IFERROR(LARGE(Data!C13:Data!Q13,3),0)+IFERROR(LARGE(Data!D13:Data!P13,1),0)+IFERROR(LARGE(Data!D13:Data!P13,2),0))/5 | E14: =COUNTIF(Data!C13:Data!Q13,">"&0)&"/5" | F14: =IF(MAX(0,3-COUNTIF(Data!C13:Data!Q13,">"&0))=0,"✓","-"&MAX(0,3-COUNTIF(Data!C13:Data!Q13,">"&0))&"× CZPRA") | G14: =Data!C13 | H14: — | I14: — | J14: — | K14: =Data!G13 | L14: — | M14: — | N14: — | O14: =Data!K13 | P14: — | Q14: — | R14: =Data!N13 | S14: — | T14: — | U14: =Data!Q13
A15: 9 | B15: =Data!A19 | C15: =Data!B19 | D15: =(IFERROR(LARGE(Data!C19:Data!Q19,1),0)+IFERROR(LARGE(Data!C19:Data!Q19,2),0)+IFERROR(LARGE(Data!C19:Data!Q19,3),0)+IFERROR(LARGE(Data!D19:Data!P19,1),0)+IFERROR(LARGE(Data!D19:Data!P19,2),0))/5 | E15: =COUNTIF(Data!C19:Data!Q19,">"&0)&"/5" | F15: =IF(MAX(0,3-COUNTIF(Data!C19:Data!Q19,">"&0))=0,"✓","-"&MAX(0,3-COUNTIF(Data!C19:Data!Q19,">"&0))&"× CZPRA") | G15: =Data!C19 | H15: — | I15: — | J15: — | K15: =Data!G19 | L15: — | M15: — | N15: — | O15: =Data!K19 | P15: — | Q15: — | R15: =Data!N19 | S15: — | T15: — | U15: =Data!Q19
A16: 10 | B16: =Data!A7 | C16: =Data!B7 | D16: =(IFERROR(LARGE(Data!C7:Data!Q7,1),0)+IFERROR(LARGE(Data!C7:Data!Q7,2),0)+IFERROR(LARGE(Data!C7:Data!Q7,3),0)+IFERROR(LARGE(Data!D7:Data!P7,1),0)+IFERROR(LARGE(Data!D7:Data!P7,2),0))/5 | E16: =COUNTIF(Data!C7:Data!Q7,">"&0)&"/5" | F16: =IF(MAX(0,3-COUNTIF(Data!C7:Data!Q7,">"&0))=0,"✓","-"&MAX(0,3-COUNTIF(Data!C7:Data!Q7,">"&0))&"× CZPRA") | G16: — | H16: =Data!D7 | I16: — | J16: — | K16: =Data!G7 | L16: =Data!H7 | M16: — | N16: =Data!J7 | O16: =Data!K7 | P16: — | Q16: — | R16: — | S16: — | T16: — | U16: —
A17: 11 | B17: =Data!A9 | C17: =Data!B9 | D17: =(IFERROR(LARGE(Data!C9:Data!Q9,1),0)+IFERROR(LARGE(Data!C9:Data!Q9,2),0)+IFERROR(LARGE(Data!C9:Data!Q9,3),0)+IFERROR(LARGE(Data!D9:Data!P9,1),0)+IFERROR(LARGE(Data!D9:Data!P9,2),0))/5 | E17: =COUNTIF(Data!C9:Data!Q9,">"&0)&"/5" | F17: =IF(MAX(0,3-COUNTIF(Data!C9:Data!Q9,">"&0))=0,"✓","-"&MAX(0,3-COUNTIF(Data!C9:Data!Q9,">"&0))&"× CZPRA") | G17: — | H17: =Data!D9 | I17: — | J17: — | K17: — | L17: =Data!H9 | M17: — | N17: =Data!J9 | O17: — | P17: — | Q17: — | R17: =Data!N9 | S17: — | T17: — | U17: =Data!Q9
A18: 12 | B18: =Data!A18 | C18: =Data!B18 | D18: =(IFERROR(LARGE(Data!C18:Data!Q18,1),0)+IFERROR(LARGE(Data!C18:Data!Q18,2),0)+IFERROR(LARGE(Data!C18:Data!Q18,3),0)+IFERROR(LARGE(Data!D18:Data!P18,1),0)+IFERROR(LARGE(Data!D18:Data!P18,2),0))/5 | E18: =COUNTIF(Data!C18:Data!Q18,">"&0)&"/5" | F18: =IF(MAX(0,3-COUNTIF(Data!C18:Data!Q18,">"&0))=0,"✓","-"&MAX(0,3-COUNTIF(Data!C18:Data!Q18,">"&0))&"× CZPRA") | G18: =Data!C18 | H18: — | I18: — | J18: =Data!F18 | K18: =Data!G18 | L18: — | M18: =Data!I18 | N18: — | O18: =Data!K18 | P18: — | Q18: — | R18: =Data!N18 | S18: — | T18: — | U18: =Data!Q18
A19: 13 | B19: =Data!A21 | C19: =Data!B21 | D19: =(IFERROR(LARGE(Data!C21:Data!Q21,1),0)+IFERROR(LARGE(Data!C21:Data!Q21,2),0)+IFERROR(LARGE(Data!C21:Data!Q21,3),0)+IFERROR(LARGE(Data!D21:Data!P21,1),0)+IFERROR(LARGE(Data!D21:Data!P21,2),0))/5 | E19: =COUNTIF(Data!C21:Data!Q21,">"&0)&"/5" | F19: =IF(MAX(0,3-COUNTIF(Data!C21:Data!Q21,">"&0))=0,"✓","-"&MAX(0,3-COUNTIF(Data!C21:Data!Q21,">"&0))&"× CZPRA") | G19: =Data!C21 | H19: — | I19: — | J19: =Data!F21 | K19: =Data!G21 | L19: — | M19: =Data!I21 | N19: — | O19: =Data!K21 | P19: — | Q19: — | R19: — | S19: — | T19: — | U19: —
A20: 14 | B20: =Data!A11 | C20: =Data!B11 | D20: =(IFERROR(LARGE(Data!C11:Data!Q11,1),0)+IFERROR(LARGE(Data!C11:Data!Q11,2),0)+IFERROR(LARGE(Data!C11:Data!Q11,3),0)+IFERROR(LARGE(Data!D11:Data!P11,1),0)+IFERROR(LARGE(Data!D11:Data!P11,2),0))/5 | E20: =COUNTIF(Data!C11:Data!Q11,">"&0)&"/5" | F20: =IF(MAX(0,3-COUNTIF(Data!C11:Data!Q11,">"&0))=0,"✓","-"&MAX(0,3-COUNTIF(Data!C11:Data!Q11,">"&0))&"× CZPRA") | G20: =Data!C11 | H20: — | I20: — | J20: — | K20: =Data!G11 | L20: — | M20: — | N20: — | O20: — | P20: — | Q20: — | R20: =Data!N11 | S20: — | T20: — | U20: =Data!Q11
A21: 15 | B21: =Data!A14 | C21: =Data!B14 | D21: =(IFERROR(LARGE(Data!C14:Data!Q14,1),0)+IFERROR(LARGE(Data!C14:Data!Q14,2),0)+IFERROR(LARGE(Data!C14:Data!Q14,3),0)+IFERROR(LARGE(Data!D14:Data!P14,1),0)+IFERROR(LARGE(Data!D14:Data!P14,2),0))/5 | E21: =COUNTIF(Data!C14:Data!Q14,">"&0)&"/5" | F21: =IF(MAX(0,3-COUNTIF(Data!C14:Data!Q14,">"&0))=0,"✓","-"&MAX(0,3-COUNTIF(Data!C14:Data!Q14,">"&0))&"× CZPRA") | G21: =Data!C14 | H21: — | I21: — | J21: — | K21: — | L21: — | M21: — | N21: — | O21: =Data!K14 | P21: — | Q21: — | R21: =Data!N14 | S21: — | T21: — | U21: =Data!Q14
A22: 16 | B22: =Data!A6 | C22: =Data!B6 | D22: =(IFERROR(LARGE(Data!C6:Data!Q6,1),0)+IFERROR(LARGE(Data!C6:Data!Q6,2),0)+IFERROR(LARGE(Data!C6:Data!Q6,3),0)+IFERROR(LARGE(Data!D6:Data!P6,1),0)+IFERROR(LARGE(Data!D6:Data!P6,2),0))/5 | E22: =COUNTIF(Data!C6:Data!Q6,">"&0)&"/5" | F22: =IF(MAX(0,3-COUNTIF(Data!C6:Data!Q6,">"&0))=0,"✓","-"&MAX(0,3-COUNTIF(Data!C6:Data!Q6,">"&0))&"× CZPRA") | G22: — | H22: =Data!D6 | I22: — | J22: — | K22: — | L22: =Data!H6 | M22: — | N22: =Data!J6 | O22: =Data!K6 | P22: — | Q22: — | R22: — | S22: — | T22: — | U22: —
A23: 17 | B23: =Data!A28 | C23: =Data!B28 | D23: =(IFERROR(LARGE(Data!C28:Data!Q28,1),0)+IFERROR(LARGE(Data!C28:Data!Q28,2),0)+IFERROR(LARGE(Data!C28:Data!Q28,3),0)+IFERROR(LARGE(Data!D28:Data!P28,1),0)+IFERROR(LARGE(Data!D28:Data!P28,2),0))/5 | E23: =COUNTIF(Data!C28:Data!Q28,">"&0)&"/5" | F23: =IF(MAX(0,3-COUNTIF(Data!C28:Data!Q28,">"&0))=0,"✓","-"&MAX(0,3-COUNTIF(Data!C28:Data!Q28,">"&0))&"× CZPRA") | G23: =Data!C28 | H23: — | I23: — | J23: — | K23: =Data!G28 | L23: =Data!H28 | M23: — | N23: — | O23: — | P23: — | Q23: — | R23: =Data!N28 | S23: — | T23: — | U23: —
A24: 18 | B24: =Data!A15 | C24: =Data!B15 | D24: =(IFERROR(LARGE(Data!C15:Data!Q15,1),0)+IFERROR(LARGE(Data!C15:Data!Q15,2),0)+IFERROR(LARGE(Data!C15:Data!Q15,3),0)+IFERROR(LARGE(Data!D15:Data!P15,1),0)+IFERROR(LARGE(Data!D15:Data!P15,2),0))/5 | E24: =COUNTIF(Data!C15:Data!Q15,">"&0)&"/5" | F24: =IF(MAX(0,3-COUNTIF(Data!C15:Data!Q15,">"&0))=0,"✓","-"&MAX(0,3-COUNTIF(Data!C15:Data!Q15,">"&0))&"× CZPRA") | G24: — | H24: =Data!D15 | I24: — | J24: — | K24: — | L24: =Data!H15 | M24: — | N24: =Data!J15 | O24: — | P24: — | Q24: — | R24: — | S24: — | T24: — | U24: =Data!Q15
A25: 19 | B25: =Data!A27 | C25: =Data!B27 | D25: =(IFERROR(LARGE(Data!C27:Data!Q27,1),0)+IFERROR(LARGE(Data!C27:Data!Q27,2),0)+IFERROR(LARGE(Data!C27:Data!Q27,3),0)+IFERROR(LARGE(Data!D27:Data!P27,1),0)+IFERROR(LARGE(Data!D27:Data!P27,2),0))/5 | E25: =COUNTIF(Data!C27:Data!Q27,">"&0)&"/5" | F25: =IF(MAX(0,3-COUNTIF(Data!C27:Data!Q27,">"&0))=0,"✓","-"&MAX(0,3-COUNTIF(Data!C27:Data!Q27,">"&0))&"× CZPRA") | G25: =Data!C27 | H25: — | I25: — | J25: — | K25: =Data!G27 | L25: =Data!H27 | M25: — | N25: — | O25: — | P25: — | Q25: — | R25: — | S25: — | T25: — | U25: —
A26: 20 | B26: =Data!A37 | C26: =Data!B37 | D26: =(IFERROR(LARGE(Data!C37:Data!Q37,1),0)+IFERROR(LARGE(Data!C37:Data!Q37,2),0)+IFERROR(LARGE(Data!C37:Data!Q37,3),0)+IFERROR(LARGE(Data!D37:Data!P37,1),0)+IFERROR(LARGE(Data!D37:Data!P37,2),0))/5 | E26: =COUNTIF(Data!C37:Data!Q37,">"&0)&"/5" | F26: =IF(MAX(0,3-COUNTIF(Data!C37:Data!Q37,">"&0))=0,"✓","-"&MAX(0,3-COUNTIF(Data!C37:Data!Q37,">"&0))&"× CZPRA") | G26: =Data!C37 | H26: — | I26: — | J26: — | K26: =Data!G37 | L26: =Data!H37 | M26: — | N26: =Data!J37 | O26: — | P26: =Data!L37 | Q26: — | R26: =Data!N37 | S26: — | T26: — | U26: =Data!Q37
A27: 21 | B27: =Data!A34 | C27: =Data!B34 | D27: =(IFERROR(LARGE(Data!C34:Data!Q34,1),0)+IFERROR(LARGE(Data!C34:Data!Q34,2),0)+IFERROR(LARGE(Data!C34:Data!Q34,3),0)+IFERROR(LARGE(Data!D34:Data!P34,1),0)+IFERROR(LARGE(Data!D34:Data!P34,2),0))/5 | E27: =COUNTIF(Data!C34:Data!Q34,">"&0)&"/5" | F27: =IF(MAX(0,3-COUNTIF(Data!C34:Data!Q34,">"&0))=0,"✓","-"&MAX(0,3-COUNTIF(Data!C34:Data!Q34,">"&0))&"× CZPRA") | G27: — | H27: — | I27: — | J27: — | K27: =Data!G34 | L27: — | M27: — | N27: =Data!J34 | O27: =Data!K34 | P27: — | Q27: — | R27: =Data!N34 | S27: — | T27: — | U27: —
A28: 22 | B28: =Data!A16 | C28: =Data!B16 | D28: =(IFERROR(LARGE(Data!C16:Data!Q16,1),0)+IFERROR(LARGE(Data!C16:Data!Q16,2),0)+IFERROR(LARGE(Data!C16:Data!Q16,3),0)+IFERROR(LARGE(Data!D16:Data!P16,1),0)+IFERROR(LARGE(Data!D16:Data!P16,2),0))/5 | E28: =COUNTIF(Data!C16:Data!Q16,">"&0)&"/5" | F28: =IF(MAX(0,3-COUNTIF(Data!C16:Data!Q16,">"&0))=0,"✓","-"&MAX(0,3-COUNTIF(Data!C16:Data!Q16,">"&0))&"× CZPRA") | G28: — | H28: — | I28: — | J28: — | K28: — | L28: =Data!H16 | M28: — | N28: =Data!J16 | O28: — | P28: — | Q28: — | R28: — | S28: — | T28: — | U28: —
A29: 23 | B29: =Data!A25 | C29: =Data!B25 | D29: =(IFERROR(LARGE(Data!C25:Data!Q25,1),0)+IFERROR(LARGE(Data!C25:Data!Q25,2),0)+IFERROR(LARGE(Data!C25:Data!Q25,3),0)+IFERROR(LARGE(Data!D25:Data!P25,1),0)+IFERROR(LARGE(Data!D25:Data!P25,2),0))/5 | E29: =COUNTIF(Data!C25:Data!Q25,">"&0)&"/5" | F29: =IF(MAX(0,3-COUNTIF(Data!C25:Data!Q25,">"&0))=0,"✓","-"&MAX(0,3-COUNTIF(Data!C25:Data!Q25,">"&0))&"× CZPRA") | G29: — | H29: — | I29: — | J29: — | K29: — | L29: =Data!H25 | M29: — | N29: =Data!J25 | O29: — | P29: — | Q29: — | R29: — | S29: — | T29: — | U29: —
A30: 24 | B30: =Data!A26 | C30: =Data!B26 | D30: =(IFERROR(LARGE(Data!C26:Data!Q26,1),0)+IFERROR(LARGE(Data!C26:Data!Q26,2),0)+IFERROR(LARGE(Data!C26:Data!Q26,3),0)+IFERROR(LARGE(Data!D26:Data!P26,1),0)+IFERROR(LARGE(Data!D26:Data!P26,2),0))/5 | E30: =COUNTIF(Data!C26:Data!Q26,">"&0)&"/5" | F30: =IF(MAX(0,3-COUNTIF(Data!C26:Data!Q26,">"&0))=0,"✓","-"&MAX(0,3-COUNTIF(Data!C26:Data!Q26,">"&0))&"× CZPRA") | G30: — | H30: — | I30: — | J30: — | K30: — | L30: =Data!H26 | M30: — | N30: =Data!J26 | O30: — | P30: — | Q30: — | R30: — | S30: — | T30: — | U30: —
A31: 25 | B31: =Data!A23 | C31: =Data!B23 | D31: =(IFERROR(LARGE(Data!C23:Data!Q23,1),0)+IFERROR(LARGE(Data!C23:Data!Q23,2),0)+IFERROR(LARGE(Data!C23:Data!Q23,3),0)+IFERROR(LARGE(Data!D23:Data!P23,1),0)+IFERROR(LARGE(Data!D23:Data!P23,2),0))/5 | E31: =COUNTIF(Data!C23:Data!Q23,">"&0)&"/5" | F31: =IF(MAX(0,3-COUNTIF(Data!C23:Data!Q23,">"&0))=0,"✓","-"&MAX(0,3-COUNTIF(Data!C23:Data!Q23,">"&0))&"× CZPRA") | G31: — | H31: — | I31: — | J31: — | K31: — | L31: — | M31: — | N31: — | O31: — | P31: =Data!L23 | Q31: — | R31: =Data!N23 | S31: — | T31: — | U31: —
A32: 26 | B32: =Data!A24 | C32: =Data!B24 | D32: =(IFERROR(LARGE(Data!C24:Data!Q24,1),0)+IFERROR(LARGE(Data!C24:Data!Q24,2),0)+IFERROR(LARGE(Data!C24:Data!Q24,3),0)+IFERROR(LARGE(Data!D24:Data!P24,1),0)+IFERROR(LARGE(Data!D24:Data!P24,2),0))/5 | E32: =COUNTIF(Data!C24:Data!Q24,">"&0)&"/5" | F32: =IF(MAX(0,3-COUNTIF(Data!C24:Data!Q24,">"&0))=0,"✓","-"&MAX(0,3-COUNTIF(Data!C24:Data!Q24,">"&0))&"× CZPRA") | G32: — | H32: =Data!D24 | I32: — | J32: — | K32: — | L32: =Data!H24 | M32: — | N32: — | O32: — | P32: — | Q32: — | R32: — | S32: — | T32: — | U32: —
A33: 27 | B33: =Data!A40 | C33: =Data!B40 | D33: =(IFERROR(LARGE(Data!C40:Data!Q40,1),0)+IFERROR(LARGE(Data!C40:Data!Q40,2),0)+IFERROR(LARGE(Data!C40:Data!Q40,3),0)+IFERROR(LARGE(Data!D40:Data!P40,1),0)+IFERROR(LARGE(Data!D40:Data!P40,2),0))/5 | E33: =COUNTIF(Data!C40:Data!Q40,">"&0)&"/5" | F33: =IF(MAX(0,3-COUNTIF(Data!C40:Data!Q40,">"&0))=0,"✓","-"&MAX(0,3-COUNTIF(Data!C40:Data!Q40,">"&0))&"× CZPRA") | G33: =Data!C40 | H33: — | I33: — | J33: — | K33: =Data!G40 | L33: — | M33: — | N33: — | O33: — | P33: — | Q33: — | R33: =Data!N40 | S33: — | T33: — | U33: —
A34: 28 | B34: =Data!A39 | C34: =Data!B39 | D34: =(IFERROR(LARGE(Data!C39:Data!Q39,1),0)+IFERROR(LARGE(Data!C39:Data!Q39,2),0)+IFERROR(LARGE(Data!C39:Data!Q39,3),0)+IFERROR(LARGE(Data!D39:Data!P39,1),0)+IFERROR(LARGE(Data!D39:Data!P39,2),0))/5 | E34: =COUNTIF(Data!C39:Data!Q39,">"&0)&"/5" | F34: =IF(MAX(0,3-COUNTIF(Data!C39:Data!Q39,">"&0))=0,"✓","-"&MAX(0,3-COUNTIF(Data!C39:Data!Q39,">"&0))&"× CZPRA") | G34: =Data!C39 | H34: — | I34: — | J34: — | K34: =Data!G39 | L34: — | M34: — | N34: — | O34: — | P34: — | Q34: — | R34: — | S34: — | T34: — | U34: —
A35: 29 | B35: =Data!A20 | C35: =Data!B20 | D35: =(IFERROR(LARGE(Data!C20:Data!Q20,1),0)+IFERROR(LARGE(Data!C20:Data!Q20,2),0)+IFERROR(LARGE(Data!C20:Data!Q20,3),0)+IFERROR(LARGE(Data!D20:Data!P20,1),0)+IFERROR(LARGE(Data!D20:Data!P20,2),0))/5 | E35: =COUNTIF(Data!C20:Data!Q20,">"&0)&"/5" | F35: =IF(MAX(0,3-COUNTIF(Data!C20:Data!Q20,">"&0))=0,"✓","-"&MAX(0,3-COUNTIF(Data!C20:Data!Q20,">"&0))&"× CZPRA") | G35: — | H35: — | I35: — | J35: — | K35: — | L35: — | M35: — | N35: — | O35: =Data!K20 | P35: — | Q35: — | R35: — | S35: — | T35: — | U35: —
A36: 30 | B36: =Data!A22 | C36: =Data!B22 | D36: =(IFERROR(LARGE(Data!C22:Data!Q22,1),0)+IFERROR(LARGE(Data!C22:Data!Q22,2),0)+IFERROR(LARGE(Data!C22:Data!Q22,3),0)+IFERROR(LARGE(Data!D22:Data!P22,1),0)+IFERROR(LARGE(Data!D22:Data!P22,2),0))/5 | E36: =COUNTIF(Data!C22:Data!Q22,">"&0)&"/5" | F36: =IF(MAX(0,3-COUNTIF(Data!C22:Data!Q22,">"&0))=0,"✓","-"&MAX(0,3-COUNTIF(Data!C22:Data!Q22,">"&0))&"× CZPRA") | G36: =Data!C22 | H36: — | I36: — | J36: — | K36: — | L36: — | M36: — | N36: — | O36: — | P36: — | Q36: — | R36: — | S36: — | T36: — | U36: —
A37: 31 | B37: =Data!A30 | C37: =Data!B30 | D37: =(IFERROR(LARGE(Data!C30:Data!Q30,1),0)+IFERROR(LARGE(Data!C30:Data!Q30,2),0)+IFERROR(LARGE(Data!C30:Data!Q30,3),0)+IFERROR(LARGE(Data!D30:Data!P30,1),0)+IFERROR(LARGE(Data!D30:Data!P30,2),0))/5 | E37: =COUNTIF(Data!C30:Data!Q30,">"&0)&"/5" | F37: =IF(MAX(0,3-COUNTIF(Data!C30:Data!Q30,">"&0))=0,"✓","-"&MAX(0,3-COUNTIF(Data!C30:Data!Q30,">"&0))&"× CZPRA") | G37: =Data!C30 | H37: — | I37: — | J37: — | K37: — | L37: — | M37: — | N37: — | O37: — | P37: — | Q37: — | R37: — | S37: — | T37: — | U37: —
A38: 32 | B38: =Data!A33 | C38: =Data!B33 | D38: =(IFERROR(LARGE(Data!C33:Data!Q33,1),0)+IFERROR(LARGE(Data!C33:Data!Q33,2),0)+IFERROR(LARGE(Data!C33:Data!Q33,3),0)+IFERROR(LARGE(Data!D33:Data!P33,1),0)+IFERROR(LARGE(Data!D33:Data!P33,2),0))/5 | E38: =COUNTIF(Data!C33:Data!Q33,">"&0)&"/5" | F38: =IF(MAX(0,3-COUNTIF(Data!C33:Data!Q33,">"&0))=0,"✓","-"&MAX(0,3-COUNTIF(Data!C33:Data!Q33,">"&0))&"× CZPRA") | G38: =Data!C33 | H38: — | I38: — | J38: — | K38: — | L38: — | M38: — | N38: — | O38: — | P38: — | Q38: — | R38: — | S38: — | T38: — | U38: —
A39: 33 | B39: =Data!A35 | C39: =Data!B35 | D39: =(IFERROR(LARGE(Data!C35:Data!Q35,1),0)+IFERROR(LARGE(Data!C35:Data!Q35,2),0)+IFERROR(LARGE(Data!C35:Data!Q35,3),0)+IFERROR(LARGE(Data!D35:Data!P35,1),0)+IFERROR(LARGE(Data!D35:Data!P35,2),0))/5 | E39: =COUNTIF(Data!C35:Data!Q35,">"&0)&"/5" | F39: =IF(MAX(0,3-COUNTIF(Data!C35:Data!Q35,">"&0))=0,"✓","-"&MAX(0,3-COUNTIF(Data!C35:Data!Q35,">"&0))&"× CZPRA") | G39: =Data!C35 | H39: — | I39: — | J39: — | K39: — | L39: — | M39: — | N39: — | O39: — | P39: — | Q39: — | R39: — | S39: — | T39: — | U39: —
A40: 34 | B40: =Data!A32 | C40: =Data!B32 | D40: =(IFERROR(LARGE(Data!C32:Data!Q32,1),0)+IFERROR(LARGE(Data!C32:Data!Q32,2),0)+IFERROR(LARGE(Data!C32:Data!Q32,3),0)+IFERROR(LARGE(Data!D32:Data!P32,1),0)+IFERROR(LARGE(Data!D32:Data!P32,2),0))/5 | E40: =COUNTIF(Data!C32:Data!Q32,">"&0)&"/5" | F40: =IF(MAX(0,3-COUNTIF(Data!C32:Data!Q32,">"&0))=0,"✓","-"&MAX(0,3-COUNTIF(Data!C32:Data!Q32,">"&0))&"× CZPRA") | G40: — | H40: — | I40: — | J40: — | K40: — | L40: =Data!H32 | M40: — | N40: — | O40: — | P40: — | Q40: — | R40: — | S40: — | T40: — | U40: —
A41: 35 | B41: =Data!A31 | C41: =Data!B31 | D41: =(IFERROR(LARGE(Data!C31:Data!Q31,1),0)+IFERROR(LARGE(Data!C31:Data!Q31,2),0)+IFERROR(LARGE(Data!C31:Data!Q31,3),0)+IFERROR(LARGE(Data!D31:Data!P31,1),0)+IFERROR(LARGE(Data!D31:Data!P31,2),0))/5 | E41: =COUNTIF(Data!C31:Data!Q31,">"&0)&"/5" | F41: =IF(MAX(0,3-COUNTIF(Data!C31:Data!Q31,">"&0))=0,"✓","-"&MAX(0,3-COUNTIF(Data!C31:Data!Q31,">"&0))&"× CZPRA") | G41: — | H41: — | I41: — | J41: — | K41: — | L41: — | M41: — | N41: — | O41: =Data!K31 | P41: — | Q41: — | R41: — | S41: — | T41: — | U41: —
A42: 36 | B42: =Data!A29 | C42: =Data!B29 | D42: =(IFERROR(LARGE(Data!C29:Data!Q29,1),0)+IFERROR(LARGE(Data!C29:Data!Q29,2),0)+IFERROR(LARGE(Data!C29:Data!Q29,3),0)+IFERROR(LARGE(Data!D29:Data!P29,1),0)+IFERROR(LARGE(Data!D29:Data!P29,2),0))/5 | E42: =COUNTIF(Data!C29:Data!Q29,">"&0)&"/5" | F42: =IF(MAX(0,3-COUNTIF(Data!C29:Data!Q29,">"&0))=0,"✓","-"&MAX(0,3-COUNTIF(Data!C29:Data!Q29,">"&0))&"× CZPRA") | G42: — | H42: — | I42: — | J42: — | K42: — | L42: — | M42: — | N42: — | O42: — | P42: — | Q42: — | R42: — | S42: — | T42: — | U42: =Data!Q29
...

Sheet Data
A1: Závodník | B1: Lady | C1: SlaveTown | D1: Owl Valley Puchacz | E1: SGW Leobersdorf | F1: MRTM Winter | G1: MČR | H1: NH jaro | I1: MRTM Spring | J1: NH léto | K1: Ludvíkovice PR22 #1 | L1: NRL22 Slovakia Sielnica | M1: Austrian Rimfire Summer | N1: Ludvíkovice PR22 #2 | O1: Lithuanian Rimfire Ch. | P1: MRTM Summer | Q1: Ludvíkovice PR22 #3
A2: Typ závodu: | C2: CZPRA | D2: ostatní | E2: ostatní | F2: ostatní | G2: CZPRA | H2: ostatní | I2: ostatní | J2: ostatní | K2: CZPRA | L2: ostatní | M2: ostatní | N2: CZPRA | O2: ostatní | P2: ostatní | Q2: CZPRA
A3: Jan Charouz | C3: 100 | E3: 90 | G3: 100 | H3: 90.26 | K3: 91.49 | M3: 96.91 | N3: 92.05 | O3: 97.19 | P3: 85.05 | Q3: 77.17
A4: Roman Konecny | C4: 100 | E4: 97.27 | F4: 91.3 | G4: 98.37 | H4: 93.85 | J4: 100 | K4: 86.17 | M4: 95.88 | N4: 100 | O4: 96.07 | P4: 95.33 | Q4: 97.83
A5: Peter Stefanovic | D5: 96.34 | F5: 98.91 | G5: 99.46 | H5: 91.79 | J5: 93.01 | N5: 100 | Q5: 100
A6: Jakub Dvořák | D6: 100 | H6: 100 | J6: 97.2 | K6: 100
A7: Martin Hlušička | D7: 97.56 | G7: 93.48 | H7: 94.87 | J7: 95.8 | K7: 93.62
A8: Matěj Ficek | C8: 91.46 | G8: 92.39 | K8: 90.43 | N8: 92.05 | Q8: 90.22
A9: Jan Tušek | D9: 97.56 | H9: 93.33 | J9: 67.83 | N9: 90.91 | Q9: 79.35
A10: Petr Šroub | C10: 82.93 | G10: 85.33 | H10: 83.08 | J10: 91.61 | K10: 72.34 | N10: 90.91 | Q10: 81.52
A11: Kateřina Ficková | B11: ✓ | C11: 93.9 | G11: 83.15 | N11: 67.05 | Q11: 91.3
A12: Sabina Jančíková | B12: ✓ | C12: 79.27 | G12: 85.33 | H12: 75.9 | J12: 88.81 | L12: 80.88 | N12: 86.36
A13: Jakub Janoušek | C13: 76.83 | G13: 75.54 | K13: 71.28 | N13: 87.5 | Q13: 77.17
A14: Jakub Richter | C14: 90.24 | K14: 72.34 | N14: 62.5 | Q14: 76.09
A15: Lenka Rousková | B15: ✓ | D15: 93.9 | H15: 89.74 | J15: 69.93 | Q15: 71.74
A16: Radek Novak | H16: 84.62 | J16: 93.71
A17: Štěpán Janů | C17: 84.15 | F17: 65.88 | G17: 80.43 | I17: 86.05 | N17: 60.23 | Q17: 81.52
A18: Pavel Janů | C18: 84.15 | F18: 89.41 | G18: 76.63 | I18: 74.42 | K18: 54.26 | N18: 64.77 | Q18: 69.57
A19: Michal Ficek | C19: 84.15 | G19: 76.63 | K19: 60.64 | N19: 82.95 | Q19: 78.26
A20: Pavel Jarolím | K20: 80.85
A21: Jiří Koklar | C21: 80.49 | F21: 77.65 | G21: 73.91 | I21: 65.12 | K21: 52.13
A22: Miroslav Šíma | C22: 80.49
A23: Miloslav Jancik | L23: 73.08 | N23: 79.55
A24: Lucie Horka | B24: ✓ | D24: 80.49 | H24: 70.26
A25: Premysl Hvezda | H25: 74.36 | J25: 88.81
A26: Diana Kubova | B26: ✓ | H26: 74.36 | J26: 83.92
A27: Daniel Klaus | C27: 73.17 | G27: 71.74 | H27: 78.46
A28: Lukáš Zavadilík | C28: 75.61 | G28: 66.85 | H28: 69.23 | N28: 62.5
A29: Zuzana Slavíková | B29: ✓ | Q29: 44.57
A30: Lukáš Kvarda | C30: 70.73
A31: Filip Hebelka | K31: 52.13
A32: Robin Mikusiak | H32: 56.92
A33: Michael Prouza | C33: 65.85
A34: Tomáš Kresa | G34: 57.07 | J34: 51.75 | K34: 43.62 | N34: 61.36
A35: Ondřej Kvarda | C35: 60.98
A36: Ondřej Halama | K36: 37.23
A37: Laura Dosoudilová | B37: ✓ | C37: 53.66 | G37: 50 | H37: 47.69 | J37: 25.87 | L37: 46.27 | N37: 36.36 | Q37: 33.7
A38: Denis Noska | K38: 25.53
A39: Radek Škarpich | C39: 48.78 | G39: 40.22
A40: Jaroslav O. Březina | C40: 39.02 | G40: 44.02 | N40: 29.55

Sheet Závody
A1: # | B1: Název závodu | C1: Datum | D1: Typ
A2: 1 | B2: SlaveTown | C2: 22.02.2026 | D2: CZPRA
A3: 2 | B3: Owl Valley Puchacz | C3: 08.03.2026 | D3: ostatní
A4: 3 | B4: SGW Leobersdorf | C4: 14.03.2026 | D4: ostatní
A5: 4 | B5: MRTM Winter | C5: 22.03.2026 | D5: ostatní
A6: 5 | B6: MČR | C6: 26.04.2026 | D6: CZPRA
A7: 6 | B7: NH jaro | C7: 03.05.2026 | D7: ostatní
A8: 7 | B8: MRTM Spring | C8: 14.06.2026 | D8: ostatní
A9: 8 | B9: NH léto | C9: 14.06.2026 | D9: ostatní
A10: 9 | B10: Ludvíkovice PR22 #1 | C10: 28.06.2026 | D10: CZPRA
A11: 10 | B11: NRL22 Slovakia Sielnica | C11: 11.07.2026 | D11: ostatní
A12: 11 | B12: Austrian Rimfire Summer | C12: 18.07.2026 | D12: ostatní
A13: 12 | B13: Ludvíkovice PR22 #2 | C13: 25.07.2026 | D13: CZPRA
... A16: 15 | B16: Ludvíkovice PR22 #3 | C16: 04.10.2026 | D16: CZPRA
